BEGIN:VCALENDAR
VERSION:2.0
PRODID:-//Savvy Initiative - ECPv6.15.20//NONSGML v1.0//EN
CALSCALE:GREGORIAN
METHOD:PUBLISH
X-WR-CALNAME:Savvy Initiative
X-ORIGINAL-URL:https://savvyinitiative.com
X-WR-CALDESC:Events for Savvy Initiative
REFRESH-INTERVAL;VALUE=DURATION:PT1H
X-Robots-Tag:noindex
X-PUBLISHED-TTL:PT1H
BEGIN:VTIMEZONE
TZID:UTC
BEGIN:STANDARD
TZOFFSETFROM:+0000
TZOFFSETTO:+0000
TZNAME:UTC
DTSTART:20240101T000000
END:STANDARD
END:VTIMEZONE
BEGIN:VEVENT
DTSTART;TZID=UTC:20251004T180000
DTEND;TZID=UTC:20251004T235900
DTSTAMP:20260423T124715
CREATED:20250818T135729Z
LAST-MODIFIED:20251004T113253Z
UID:4947-1759600800-1759622340@savvyinitiative.com
SUMMARY:Savvy Initiative Recognition Award (SIRA) 2025
DESCRIPTION:« All Events\n 				\n				\n				\n				\n					This event has passed. \n				\n				\n		\n		\n				\n				\n					\n	Savvy Initiative Recognition Award (SIRA) 2025				\n				\n				\n				\n					\n		\n			October 4\n\n	\n\n	  @  \n\n\n6:00 pm\n\n		\n\n\n\n	\n	  -  \n\n11:59 pm\n\n\n\n	\n				\n				\n				\n				\n					\n	\n\n		\n		\n		\n\n		\n\n\n		\n\n\n\n	Tickets\n\n		\n	\n	\n		The numbers below include tickets for this event already in your cart. Clicking "Get Tickets" will allow you to edit any existing attendee information as well as change ticket quantities.	\n\n\n		\n		\n		\n	\n		Tickets are no longer available	\n\n\n		\n	\n	\n\n	\n	\n\n	\n	\n\n\n\n			\n\n	\n\n\n				\n				\n				\n									SIRA is all about recognizing and celebrating the savvy individuals making a positive impact in our community! Welcome to the Savvy Initiative Recognition Award (SIRA)! Come join us in Chicago Illinois for a night of celebration and recognition. SIRA aims to honor individuals who have shown exceptional skills and dedication in their field. This in-person event promises to be a memorable evening filled with inspiring stories and well-deserved accolades. Don’t miss out on this opportunity to applaud the remarkable achievements of our honorees. See you there!
URL:https://savvyinitiative.com/event/savvy-initiative-recognition-award/
LOCATION:Chicago Illinois\, Moonlight Studios \,1466 W Kinzie St\, Chicago\, IL\, 60642\, United States
CATEGORIES:SIRA
ATTACH;FMTTYPE=image/jpeg:https://savvyinitiative.com/wp-content/uploads/2024/10/SIRA-1-scaled-1.jpg
ORGANIZER;CN="Savvy Initiative":MAILTO:info@savvyinitiative.com
END:VEVENT
BEGIN:VEVENT
DTSTART;TZID=UTC:20251004T180000
DTEND;TZID=UTC:20251004T235900
DTSTAMP:20260423T124715
CREATED:20250626T183106Z
LAST-MODIFIED:20251002T191129Z
UID:4512-1759600800-1759622340@savvyinitiative.com
SUMMARY:SIRA 2025
DESCRIPTION:Content is protected.
URL:https://savvyinitiative.com/event/sira-2025/
LOCATION:Chicago Illinois\, Moonlight Studios \,1466 W Kinzie St\, Chicago\, IL\, 60642\, United States
CATEGORIES:SIRA
ORGANIZER;CN="Savvy Initiative":MAILTO:info@savvyinitiative.com
END:VEVENT
BEGIN:VEVENT
DTSTART;TZID=UTC:20251004T180000
DTEND;TZID=UTC:20251004T235900
DTSTAMP:20260423T124715
CREATED:20241026T201912Z
LAST-MODIFIED:20251002T191104Z
UID:3875-1759600800-1759622340@savvyinitiative.com
SUMMARY:Savvy Initiative Recognition Award(SIRA)
DESCRIPTION:« All Events\n 				\n				\n				\n				\n					This event has passed. \n				\n				\n		\n		\n				\n				\n					\n	Savvy Initiative Recognition Award (SIRA) 2025				\n				\n				\n				\n					\n		\n			October 4\n\n	\n\n	  @  \n\n\n6:00 pm\n\n		\n\n\n\n	\n	  -  \n\n11:59 pm\n\n\n\n	\n				\n				\n				\n				\n					\n	\n\n		\n		\n		\n\n		\n\n\n		\n\n\n\n	Tickets\n\n		\n	\n	\n		The numbers below include tickets for this event already in your cart. Clicking "Get Tickets" will allow you to edit any existing attendee information as well as change ticket quantities.	\n\n\n		\n		\n		\n	\n		Tickets are no longer available	\n\n\n		\n	\n	\n\n	\n	\n\n	\n	\n\n\n\n			\n\n	\n\n\n				\n				\n				\n									SIRA is all about recognizing and celebrating the savvy individuals making a positive impact in our community! Welcome to the Savvy Initiative Recognition Award (SIRA)! Come join us in Chicago Illinois for a night of celebration and recognition. SIRA aims to honor individuals who have shown exceptional skills and dedication in their field. This in-person event promises to be a memorable evening filled with inspiring stories and well-deserved accolades. Don’t miss out on this opportunity to applaud the remarkable achievements of our honorees. See you there!
URL:https://savvyinitiative.com/event/savvy-initiative-recognition-award-sira/
LOCATION:Chicago Illinois\, Moonlight Studios \,1466 W Kinzie St\, Chicago\, IL\, 60642\, United States
CATEGORIES:SIRA
ATTACH;FMTTYPE=image/jpeg:https://savvyinitiative.com/wp-content/uploads/2024/10/SIRA-1-scaled-1.jpg
ORGANIZER;CN="Savvy Initiative":MAILTO:info@savvyinitiative.com
END:VEVENT
END:VCALENDAR